BEGIN:VCALENDAR
VERSION:2.0
PRODID:-//Commune de Walferdange - ECPv4.6.14.1//NONSGML v1.0//EN
CALSCALE:GREGORIAN
METHOD:PUBLISH
X-WR-CALNAME:Commune de Walferdange
X-ORIGINAL-URL:https://www.walfer.lu/de
X-WR-CALDESC:Veranstaltungen für Commune de Walferdange
BEGIN:VEVENT
DTSTART;TZID=Europe/Luxembourg:20180625T143000
DTEND;TZID=Europe/Luxembourg:20180625T143000
DTSTAMP:20180701T215537
CREATED:20180528T140701Z
LAST-MODIFIED:20180528T140701Z
UID:45792-1529937000-1529937000@www.walfer.lu
SUMMARY:Gymnastique de danse
DESCRIPTION:
URL:https://www.walfer.lu/de/event/gymnastique-de-danse-66/
LOCATION:United States
GEO:37.09024;-95.712891
CATEGORIES:Veranstaltung
END:VEVENT
BEGIN:VEVENT
DTSTART;TZID=Europe/Luxembourg:20180625T193000
DTEND;TZID=Europe/Luxembourg:20180625T193000
DTSTAMP:20180701T215537
CREATED:20180528T140702Z
LAST-MODIFIED:20180528T140702Z
UID:45793-1529955000-1529955000@www.walfer.lu
SUMMARY:Bodyshape
DESCRIPTION:
URL:https://www.walfer.lu/de/event/bodyshape-69/
LOCATION:United States
GEO:37.09024;-95.712891
CATEGORIES:Veranstaltung
END:VEVENT
BEGIN:VEVENT
DTSTART;TZID=Europe/Luxembourg:20180626T133000
DTEND;TZID=Europe/Luxembourg:20180626T133000
DTSTAMP:20180701T215537
CREATED:20180528T140703Z
LAST-MODIFIED:20180528T140703Z
UID:45794-1530019800-1530019800@www.walfer.lu
SUMMARY:Gymnastique à partir de 50 ans
DESCRIPTION:
URL:https://www.walfer.lu/de/event/gymnastique-a-partir-de-50-ans-72/
LOCATION:United States
GEO:37.09024;-95.712891
CATEGORIES:Veranstaltung
END:VEVENT
BEGIN:VEVENT
DTSTART;TZID=Europe/Luxembourg:20180626T140000
DTEND;TZID=Europe/Luxembourg:20180626T140000
DTSTAMP:20180701T215537
CREATED:20180528T140705Z
LAST-MODIFIED:20180528T140705Z
UID:45795-1530021600-1530021600@www.walfer.lu
SUMMARY:Porte ouverte
DESCRIPTION:
URL:https://www.walfer.lu/de/event/porte-ouverte-74/
LOCATION:United States
GEO:37.09024;-95.712891
CATEGORIES:Veranstaltung
END:VEVENT
BEGIN:VEVENT
DTSTART;TZID=Europe/Luxembourg:20180627T160000
DTEND;TZID=Europe/Luxembourg:20180627T160000
DTSTAMP:20180701T215537
CREATED:20180528T140707Z
LAST-MODIFIED:20180528T140707Z
UID:45797-1530115200-1530115200@www.walfer.lu
SUMMARY:Kannerturnen
DESCRIPTION:
URL:https://www.walfer.lu/de/event/kannerturnen-52/
LOCATION:United States
GEO:37.09024;-95.712891
CATEGORIES:Veranstaltung
END:VEVENT
BEGIN:VEVENT
DTSTART;TZID=Europe/Luxembourg:20180627T180000
DTEND;TZID=Europe/Luxembourg:20180627T180000
DTSTAMP:20180701T215537
CREATED:20180528T140706Z
LAST-MODIFIED:20180528T140706Z
UID:45796-1530122400-1530122400@www.walfer.lu
SUMMARY:Vernissage de l'exposition "Spectrum"
DESCRIPTION:
URL:https://www.walfer.lu/de/event/vernissage-de-lexposition-spectrum/
LOCATION:United States
GEO:37.09024;-95.712891
CATEGORIES:Veranstaltung
END:VEVENT
BEGIN:VEVENT
DTSTART;TZID=Europe/Luxembourg:20180628T150000
DTEND;TZID=Europe/Luxembourg:20180628T150000
DTSTAMP:20180701T215537
CREATED:20180528T140708Z
LAST-MODIFIED:20180528T140708Z
UID:45798-1530198000-1530198000@www.walfer.lu
SUMMARY:Exposition "Spectrum"
DESCRIPTION:
URL:https://www.walfer.lu/de/event/exposition-spectrum/
LOCATION:United States
GEO:37.09024;-95.712891
CATEGORIES:Veranstaltung
END:VEVENT
BEGIN:VEVENT
DTSTART;TZID=Europe/Luxembourg:20180629T150000
DTEND;TZID=Europe/Luxembourg:20180629T150000
DTSTAMP:20180701T215537
CREATED:20180528T140708Z
LAST-MODIFIED:20180528T140708Z
UID:45799-1530284400-1530284400@www.walfer.lu
SUMMARY:Exposition "Spectrum"
DESCRIPTION:
URL:https://www.walfer.lu/de/event/exposition-spectrum-2/
LOCATION:United States
GEO:37.09024;-95.712891
CATEGORIES:Veranstaltung
END:VEVENT
BEGIN:VEVENT
DTSTART;TZID=Europe/Luxembourg:20180629T190000
DTEND;TZID=Europe/Luxembourg:20180629T190000
DTSTAMP:20180701T215537
CREATED:20180528T140711Z
LAST-MODIFIED:20180528T140711Z
UID:45800-1530298800-1530298800@www.walfer.lu
SUMMARY:Projet "Musical"
DESCRIPTION:
URL:https://www.walfer.lu/de/event/projet-musical-13/
LOCATION:United States
GEO:37.09024;-95.712891
CATEGORIES:Veranstaltung
END:VEVENT
BEGIN:VEVENT
DTSTART;TZID=Europe/Luxembourg:20180630T083000
DTEND;TZID=Europe/Luxembourg:20180630T083000
DTSTAMP:20180701T215537
CREATED:20180528T140712Z
LAST-MODIFIED:20180528T140712Z
UID:45801-1530347400-1530347400@www.walfer.lu
SUMMARY:Excursion: mine de gypse et Ligne Siegfried
DESCRIPTION:
URL:https://www.walfer.lu/de/event/excursion-mine-de-gypse-et-ligne-siegfried/
LOCATION:United States
GEO:37.09024;-95.712891
CATEGORIES:Veranstaltung
END:VEVENT
BEGIN:VEVENT
DTSTART;TZID=Europe/Luxembourg:20180630T130000
DTEND;TZID=Europe/Luxembourg:20180630T130000
DTSTAMP:20180701T215537
CREATED:20180528T140713Z
LAST-MODIFIED:20180528T140713Z
UID:45802-1530363600-1530363600@www.walfer.lu
SUMMARY:Breakdance
DESCRIPTION:
URL:https://www.walfer.lu/de/event/breakdance-25/
LOCATION:United States
GEO:37.09024;-95.712891
CATEGORIES:Veranstaltung
END:VEVENT
BEGIN:VEVENT
DTSTART;TZID=Europe/Luxembourg:20180630T140000
DTEND;TZID=Europe/Luxembourg:20180630T140000
DTSTAMP:20180701T215537
CREATED:20180528T140714Z
LAST-MODIFIED:20180528T140714Z
UID:45803-1530367200-1530367200@www.walfer.lu
SUMMARY:Exposition "Spectrum"
DESCRIPTION:
URL:https://www.walfer.lu/de/event/exposition-spectrum-3/
LOCATION:United States
GEO:37.09024;-95.712891
CATEGORIES:Veranstaltung
END:VEVENT
BEGIN:VEVENT
DTSTART;TZID=Europe/Luxembourg:20180630T140000
DTEND;TZID=Europe/Luxembourg:20180630T140000
DTSTAMP:20180701T215537
CREATED:20180528T140714Z
LAST-MODIFIED:20180528T140714Z
UID:45804-1530367200-1530367200@www.walfer.lu
SUMMARY:Exposition Edgar Kohn & Giovanni Cagnoli
DESCRIPTION:
URL:https://www.walfer.lu/de/event/exposition-edgar-kohn-giovanni-cagnoli-9/
LOCATION:United States
GEO:37.09024;-95.712891
CATEGORIES:Veranstaltung
END:VEVENT
END:VCALENDAR