BEGIN:VCALENDAR
VERSION:2.0
PRODID:-//Commune de Walferdange - ECPv4.2.6//NONSGML v1.0//EN
CALSCALE:GREGORIAN
METHOD:PUBLISH
X-WR-CALNAME:Commune de Walferdange
X-ORIGINAL-URL:https://www.walfer.lu
X-WR-CALDESC:Events for Commune de Walferdange
BEGIN:VEVENT
DTSTART;TZID=UTC+1:20170529T143000
DTEND;TZID=UTC+1:20170529T143000
DTSTAMP:20170621T060614
CREATED:20170426T074228
LAST-MODIFIED:20170426T074228
UID:33159-1496068200-1496068200@www.walfer.lu
SUMMARY:Gymnastique de danse
DESCRIPTION:
URL:https://www.walfer.lu/event/gymnastique-de-danse-39/
LOCATION:United States
GEO:37.09024;-95.712891
END:VEVENT
BEGIN:VEVENT
DTSTART;TZID=UTC+1:20170529T193000
DTEND;TZID=UTC+1:20170529T193000
DTSTAMP:20170621T060615
CREATED:20170426T074228
LAST-MODIFIED:20170426T074228
UID:33160-1496086200-1496086200@www.walfer.lu
SUMMARY:Bodyshape
DESCRIPTION:
URL:https://www.walfer.lu/event/bodyshape-42/
LOCATION:United States
GEO:37.09024;-95.712891
END:VEVENT
BEGIN:VEVENT
DTSTART;TZID=UTC+1:20170530T133000
DTEND;TZID=UTC+1:20170530T133000
DTSTAMP:20170621T060615
CREATED:20170426T074228
LAST-MODIFIED:20170426T074228
UID:33161-1496151000-1496151000@www.walfer.lu
SUMMARY:Gymnastique à partir de 50 ans
DESCRIPTION:
URL:https://www.walfer.lu/event/gymnastique-a-partir-de-50-ans-44/
LOCATION:United States
GEO:37.09024;-95.712891
END:VEVENT
BEGIN:VEVENT
DTSTART;TZID=UTC+1:20170530T140000
DTEND;TZID=UTC+1:20170530T140000
DTSTAMP:20170621T060615
CREATED:20170426T074229
LAST-MODIFIED:20170426T074229
UID:33162-1496152800-1496152800@www.walfer.lu
SUMMARY:Porte Ouverte
DESCRIPTION:
URL:https://www.walfer.lu/event/porte-ouverte-43/
LOCATION:United States
GEO:37.09024;-95.712891
END:VEVENT
BEGIN:VEVENT
DTSTART;TZID=UTC+1:20170530T150000
DTEND;TZID=UTC+1:20170530T150000
DTSTAMP:20170621T060615
CREATED:20170426T074229
LAST-MODIFIED:20170426T074229
UID:33163-1496156400-1496156400@www.walfer.lu
SUMMARY:Gartenmöbel bauen aus Recycling
DESCRIPTION:
URL:https://www.walfer.lu/event/gartenmobel-bauen-aus-recycling-5/
LOCATION:United States
GEO:37.09024;-95.712891
END:VEVENT
BEGIN:VEVENT
DTSTART;TZID=UTC+1:20170530T180000
DTEND;TZID=UTC+1:20170530T180000
DTSTAMP:20170621T060615
CREATED:20170426T074229
LAST-MODIFIED:20170426T074229
UID:33164-1496167200-1496167200@www.walfer.lu
SUMMARY:Vernissage L'Ephémère
DESCRIPTION:
URL:https://www.walfer.lu/event/vernissage-lephemere/
LOCATION:United States
GEO:37.09024;-95.712891
END:VEVENT
BEGIN:VEVENT
DTSTART;TZID=UTC+1:20170531T160000
DTEND;TZID=UTC+1:20170531T160000
DTSTAMP:20170621T060615
CREATED:20170426T074229
LAST-MODIFIED:20170426T074229
UID:33165-1496246400-1496246400@www.walfer.lu
SUMMARY:Kannerturnen
DESCRIPTION:
URL:https://www.walfer.lu/event/kannerturnen-24/
LOCATION:United States
GEO:37.09024;-95.712891
END:VEVENT
BEGIN:VEVENT
DTSTART;TZID=UTC+1:20170531T190000
DTEND;TZID=UTC+1:20170531T190000
DTSTAMP:20170621T060615
CREATED:20170426T074229
LAST-MODIFIED:20170426T074230
UID:33166-1496257200-1496257200@www.walfer.lu
SUMMARY:Séance d'information suppression PN17
DESCRIPTION:
URL:https://www.walfer.lu/event/seance-dinformation-suppression-pn17/
LOCATION:United States
GEO:37.09024;-95.712891
ATTACH;FMTTYPE=:
END:VEVENT
BEGIN:VEVENT
DTSTART;TZID=UTC+1:20170601T153000
DTEND;TZID=UTC+1:20170601T153000
DTSTAMP:20170621T060615
CREATED:20170519T115309
LAST-MODIFIED:20170519T115309
UID:33948-1496331000-1496331000@www.walfer.lu
SUMMARY:Girls Talk
DESCRIPTION:
URL:https://www.walfer.lu/event/girls-talk-7/
LOCATION:United States
GEO:37.09024;-95.712891
END:VEVENT
BEGIN:VEVENT
DTSTART;TZID=UTC+1:20170601T170000
DTEND;TZID=UTC+1:20170601T170000
DTSTAMP:20170621T060615
CREATED:20170519T115309
LAST-MODIFIED:20170519T115309
UID:33949-1496336400-1496336400@www.walfer.lu
SUMMARY:Jugendversammlung
DESCRIPTION:
URL:https://www.walfer.lu/event/jugendversammlung-10/
LOCATION:United States
GEO:37.09024;-95.712891
END:VEVENT
BEGIN:VEVENT
DTSTART;TZID=UTC+1:20170602T143000
DTEND;TZID=UTC+1:20170602T143000
DTSTAMP:20170621T060615
CREATED:20170519T115310
LAST-MODIFIED:20170519T115310
UID:33953-1496413800-1496413800@www.walfer.lu
SUMMARY:Cours création de bijoux
DESCRIPTION:
URL:https://www.walfer.lu/event/cours-creation-de-bijoux/
LOCATION:United States
GEO:37.09024;-95.712891
END:VEVENT
BEGIN:VEVENT
DTSTART;TZID=UTC+1:20170602T160000
DTEND;TZID=UTC+1:20170602T160000
DTSTAMP:20170621T060615
CREATED:20170519T115310
LAST-MODIFIED:20170519T115310
UID:33950-1496419200-1496419200@www.walfer.lu
SUMMARY:Skoda Tour de Luxembourg
DESCRIPTION:
URL:https://www.walfer.lu/event/skoda-tour-de-luxembourg/
LOCATION:United States
GEO:37.09024;-95.712891
END:VEVENT
BEGIN:VEVENT
DTSTART;TZID=UTC+1:20170602T160000
DTEND;TZID=UTC+1:20170602T160000
DTSTAMP:20170621T060615
CREATED:20170519T115310
LAST-MODIFIED:20170519T115310
UID:33952-1496419200-1496419200@www.walfer.lu
SUMMARY:Fussball
DESCRIPTION:
URL:https://www.walfer.lu/event/fussball-12/
LOCATION:United States
GEO:37.09024;-95.712891
END:VEVENT
BEGIN:VEVENT
DTSTART;TZID=UTC+1:20170602T170000
DTEND;TZID=UTC+1:20170602T170000
DTSTAMP:20170621T060615
CREATED:20170519T115310
LAST-MODIFIED:20170519T115310
UID:33951-1496422800-1496422800@www.walfer.lu
SUMMARY:Kochatelier
DESCRIPTION:
URL:https://www.walfer.lu/event/kochatelier-13/
LOCATION:United States
GEO:37.09024;-95.712891
END:VEVENT
BEGIN:VEVENT
DTSTART;TZID=UTC+1:20170602T190000
DTEND;TZID=UTC+1:20170602T190000
DTSTAMP:20170621T060615
CREATED:20170519T115311
LAST-MODIFIED:20170519T115311
UID:33954-1496430000-1496430000@www.walfer.lu
SUMMARY:Selbsthilfegruppe
DESCRIPTION:
URL:https://www.walfer.lu/event/selbsthilfegruppe-5/
LOCATION:United States
GEO:37.09024;-95.712891
END:VEVENT
BEGIN:VEVENT
DTSTART;TZID=UTC+1:20170603T130000
DTEND;TZID=UTC+1:20170603T130000
DTSTAMP:20170621T060615
CREATED:20170519T115311
LAST-MODIFIED:20170519T115311
UID:33955-1496494800-1496494800@www.walfer.lu
SUMMARY:Youngster Club - Karting
DESCRIPTION:
URL:https://www.walfer.lu/event/youngster-club-karting/
LOCATION:United States
GEO:37.09024;-95.712891
END:VEVENT
BEGIN:VEVENT
DTSTART;TZID=UTC+1:20170603T140000
DTEND;TZID=UTC+1:20170603T140000
DTSTAMP:20170621T060615
CREATED:20170519T115311
LAST-MODIFIED:20170519T115311
UID:33956-1496498400-1496498400@www.walfer.lu
SUMMARY:Projekt "Musical"
DESCRIPTION:
URL:https://www.walfer.lu/event/projekt-musical/
LOCATION:United States
GEO:37.09024;-95.712891
END:VEVENT
BEGIN:VEVENT
DTSTART;TZID=UTC+1:20170607T140000
DTEND;TZID=UTC+1:20170607T140000
DTSTAMP:20170621T060615
CREATED:20170519T115311
LAST-MODIFIED:20170519T115311
UID:33957-1496844000-1496844000@www.walfer.lu
SUMMARY:Bibliothèque Luxraines
DESCRIPTION:
URL:https://www.walfer.lu/event/bibliotheque-luxraines/
LOCATION:United States
GEO:37.09024;-95.712891
END:VEVENT
BEGIN:VEVENT
DTSTART;TZID=UTC+1:20170609T160000
DTEND;TZID=UTC+1:20170609T160000
DTSTAMP:20170621T060615
CREATED:20170519T115311
LAST-MODIFIED:20170519T115311
UID:33958-1497024000-1497024000@www.walfer.lu
SUMMARY:Fussball
DESCRIPTION:
URL:https://www.walfer.lu/event/fussball-13/
LOCATION:United States
GEO:37.09024;-95.712891
END:VEVENT
BEGIN:VEVENT
DTSTART;TZID=UTC+1:20170609T170000
DTEND;TZID=UTC+1:20170609T170000
DTSTAMP:20170621T060615
CREATED:20170519T115312
LAST-MODIFIED:20170519T115312
UID:33959-1497027600-1497027600@www.walfer.lu
SUMMARY:Kochatelier
DESCRIPTION:
URL:https://www.walfer.lu/event/kochatelier-14/
LOCATION:United States
GEO:37.09024;-95.712891
END:VEVENT
BEGIN:VEVENT
DTSTART;TZID=UTC+1:20170609T180000
DTEND;TZID=UTC+1:20170609T180000
DTSTAMP:20170621T060615
CREATED:20170519T115312
LAST-MODIFIED:20170519T115312
UID:33960-1497031200-1497031200@www.walfer.lu
SUMMARY:Hämmelsmarsch
DESCRIPTION:
URL:https://www.walfer.lu/event/hammelsmarsch/
LOCATION:United States
GEO:37.09024;-95.712891
END:VEVENT
BEGIN:VEVENT
DTSTART;TZID=UTC+1:20170610T090000
DTEND;TZID=UTC+1:20170610T090000
DTSTAMP:20170621T060615
CREATED:20170519T115312
LAST-MODIFIED:20170519T115312
UID:33961-1497085200-1497085200@www.walfer.lu
SUMMARY:Hämmelsmarsch
DESCRIPTION:
URL:https://www.walfer.lu/event/hammelsmarsch-2/
LOCATION:United States
GEO:37.09024;-95.712891
END:VEVENT
BEGIN:VEVENT
DTSTART;TZID=UTC+1:20170610T090000
DTEND;TZID=UTC+1:20170610T090000
DTSTAMP:20170621T060615
CREATED:20170519T115312
LAST-MODIFIED:20170519T115312
UID:33962-1497085200-1497085200@www.walfer.lu
SUMMARY:Tournoi Beach Rugby
DESCRIPTION:
URL:https://www.walfer.lu/event/tournoi-beach-rugby/
LOCATION:United States
GEO:37.09024;-95.712891
END:VEVENT
BEGIN:VEVENT
DTSTART;TZID=UTC+1:20170610T133000
DTEND;TZID=UTC+1:20170610T133000
DTSTAMP:20170621T060615
CREATED:20170519T115313
LAST-MODIFIED:20170519T115313
UID:33963-1497101400-1497101400@www.walfer.lu
SUMMARY:Hämmelsmarsch
DESCRIPTION:
URL:https://www.walfer.lu/event/hammelsmarsch-3/
LOCATION:United States
GEO:37.09024;-95.712891
END:VEVENT
BEGIN:VEVENT
DTSTART;TZID=UTC+1:20170610T140000
DTEND;TZID=UTC+1:20170610T140000
DTSTAMP:20170621T060615
CREATED:20170519T115313
LAST-MODIFIED:20170519T115313
UID:33964-1497103200-1497103200@www.walfer.lu
SUMMARY:Mobile Spieleaktion
DESCRIPTION:
URL:https://www.walfer.lu/event/mobile-spieleaktion/
LOCATION:United States
GEO:37.09024;-95.712891
END:VEVENT
BEGIN:VEVENT
DTSTART;TZID=UTC+1:20170611T113000
DTEND;TZID=UTC+1:20170611T113000
DTSTAMP:20170621T060615
CREATED:20170519T115313
LAST-MODIFIED:20170519T115313
UID:33965-1497180600-1497180600@www.walfer.lu
SUMMARY:Kiermes am Tricentenaire
DESCRIPTION:
URL:https://www.walfer.lu/event/kiermes-am-tricentenaire/
LOCATION:United States
GEO:37.09024;-95.712891
END:VEVENT
BEGIN:VEVENT
DTSTART;TZID=UTC+1:20170612T140000
DTEND;TZID=UTC+1:20170612T140000
DTSTAMP:20170621T060615
CREATED:20170519T115314
LAST-MODIFIED:20170519T115314
UID:33968-1497276000-1497276000@www.walfer.lu
SUMMARY:Exposition: " L'Ephémère"
DESCRIPTION:
URL:https://www.walfer.lu/event/exposition-lephemere/
LOCATION:United States
GEO:37.09024;-95.712891
END:VEVENT
BEGIN:VEVENT
DTSTART;TZID=UTC+1:20170612T143000
DTEND;TZID=UTC+1:20170612T143000
DTSTAMP:20170621T060615
CREATED:20170519T115313
LAST-MODIFIED:20170519T115313
UID:33966-1497277800-1497277800@www.walfer.lu
SUMMARY:Gymnastique de danse
DESCRIPTION:
URL:https://www.walfer.lu/event/gymnastique-de-danse-40/
LOCATION:United States
GEO:37.09024;-95.712891
END:VEVENT
BEGIN:VEVENT
DTSTART;TZID=UTC+1:20170612T193000
DTEND;TZID=UTC+1:20170612T193000
DTSTAMP:20170621T060615
CREATED:20170519T115313
LAST-MODIFIED:20170519T115313
UID:33967-1497295800-1497295800@www.walfer.lu
SUMMARY:Bodyshape
DESCRIPTION:
URL:https://www.walfer.lu/event/bodyshape-43/
LOCATION:United States
GEO:37.09024;-95.712891
END:VEVENT
BEGIN:VEVENT
DTSTART;TZID=UTC+1:20170613T133000
DTEND;TZID=UTC+1:20170613T133000
DTSTAMP:20170621T060615
CREATED:20170519T115314
LAST-MODIFIED:20170519T115314
UID:33969-1497360600-1497360600@www.walfer.lu
SUMMARY:Gymnastique à partir de 50 ans
DESCRIPTION:
URL:https://www.walfer.lu/event/gymnastique-a-partir-de-50-ans-45/
LOCATION:United States
GEO:37.09024;-95.712891
END:VEVENT
BEGIN:VEVENT
DTSTART;TZID=UTC+1:20170613T140000
DTEND;TZID=UTC+1:20170613T140000
DTSTAMP:20170621T060615
CREATED:20170519T115314
LAST-MODIFIED:20170519T115314
UID:33971-1497362400-1497362400@www.walfer.lu
SUMMARY:Mammendag an der Porte Ouverte
DESCRIPTION:
URL:https://www.walfer.lu/event/mammendag-an-der-porte-ouverte/
LOCATION:United States
GEO:37.09024;-95.712891
END:VEVENT
BEGIN:VEVENT
DTSTART;TZID=UTC+1:20170613T160000
DTEND;TZID=UTC+1:20170613T160000
DTSTAMP:20170621T060615
CREATED:20170519T115314
LAST-MODIFIED:20170519T115314
UID:33970-1497369600-1497369600@www.walfer.lu
SUMMARY:Girls Day - 5Minutes Craft
DESCRIPTION:
URL:https://www.walfer.lu/event/girls-day-5minutes-craft/
LOCATION:United States
GEO:37.09024;-95.712891
END:VEVENT
BEGIN:VEVENT
DTSTART;TZID=UTC+1:20170614T140000
DTEND;TZID=UTC+1:20170614T140000
DTSTAMP:20170621T060615
CREATED:20170519T115315
LAST-MODIFIED:20170519T115315
UID:33973-1497448800-1497448800@www.walfer.lu
SUMMARY:Exposition: " L'Ephémère"
DESCRIPTION:
URL:https://www.walfer.lu/event/exposition-lephemere-2/
LOCATION:United States
GEO:37.09024;-95.712891
END:VEVENT
BEGIN:VEVENT
DTSTART;TZID=UTC+1:20170614T143000
DTEND;TZID=UTC+1:20170614T143000
DTSTAMP:20170621T060615
CREATED:20170519T115314
LAST-MODIFIED:20170519T115314
UID:33972-1497450600-1497450600@www.walfer.lu
SUMMARY:Kaffisstuff
DESCRIPTION:
URL:https://www.walfer.lu/event/kaffisstuff-17/
LOCATION:United States
GEO:37.09024;-95.712891
END:VEVENT
BEGIN:VEVENT
DTSTART;TZID=UTC+1:20170614T160000
DTEND;TZID=UTC+1:20170614T160000
DTSTAMP:20170621T060615
CREATED:20170519T115315
LAST-MODIFIED:20170519T115315
UID:33975-1497456000-1497456000@www.walfer.lu
SUMMARY:Kannerturnen
DESCRIPTION:
URL:https://www.walfer.lu/event/kannerturnen-25/
LOCATION:United States
GEO:37.09024;-95.712891
END:VEVENT
BEGIN:VEVENT
DTSTART;TZID=UTC+1:20170614T190000
DTEND;TZID=UTC+1:20170614T190000
DTSTAMP:20170621T060615
CREATED:20170519T115315
LAST-MODIFIED:20170519T115315
UID:33974-1497466800-1497466800@www.walfer.lu
SUMMARY:Sproochecafé
DESCRIPTION:
URL:https://www.walfer.lu/event/sproochecafe-6/
LOCATION:United States
GEO:37.09024;-95.712891
END:VEVENT
BEGIN:VEVENT
DTSTART;TZID=UTC+1:20170615T193000
DTEND;TZID=UTC+1:20170615T193000
DTSTAMP:20170621T060615
CREATED:20170519T115316
LAST-MODIFIED:20170519T115316
UID:33977-1497555000-1497555000@www.walfer.lu
SUMMARY:D'Latäin an de Por-Regëschteren
DESCRIPTION:
URL:https://www.walfer.lu/event/dlatain-an-de-por-regeschteren/
LOCATION:United States
GEO:37.09024;-95.712891
END:VEVENT
BEGIN:VEVENT
DTSTART;TZID=UTC+1:20170615T200000
DTEND;TZID=UTC+1:20170615T200000
DTSTAMP:20170621T060615
CREATED:20170519T115315
LAST-MODIFIED:20170519T115315
UID:33976-1497556800-1497556800@www.walfer.lu
SUMMARY:Danzowend
DESCRIPTION:
URL:https://www.walfer.lu/event/danzowend-14/
LOCATION:United States
GEO:37.09024;-95.712891
END:VEVENT
BEGIN:VEVENT
DTSTART;TZID=UTC+1:20170616T160000
DTEND;TZID=UTC+1:20170616T160000
DTSTAMP:20170621T060615
CREATED:20170519T115316
LAST-MODIFIED:20170519T115316
UID:33979-1497628800-1497628800@www.walfer.lu
SUMMARY:Fussball
DESCRIPTION:
URL:https://www.walfer.lu/event/fussball-14/
LOCATION:United States
GEO:37.09024;-95.712891
END:VEVENT
BEGIN:VEVENT
DTSTART;TZID=UTC+1:20170616T170000
DTEND;TZID=UTC+1:20170616T170000
DTSTAMP:20170621T060615
CREATED:20170519T115317
LAST-MODIFIED:20170519T115317
UID:33980-1497632400-1497632400@www.walfer.lu
SUMMARY:Kochatelier
DESCRIPTION:
URL:https://www.walfer.lu/event/kochatelier-15/
LOCATION:United States
GEO:37.09024;-95.712891
END:VEVENT
BEGIN:VEVENT
DTSTART;TZID=UTC+1:20170617T100000
DTEND;TZID=UTC+1:20170617T100000
DTSTAMP:20170621T060615
CREATED:20170519T115318
LAST-MODIFIED:20170519T115318
UID:33983-1497693600-1497693600@www.walfer.lu
SUMMARY:Orchideewanderung
DESCRIPTION:
URL:https://www.walfer.lu/event/orchideewanderung/
LOCATION:United States
GEO:37.09024;-95.712891
END:VEVENT
BEGIN:VEVENT
DTSTART;TZID=UTC+1:20170617T140000
DTEND;TZID=UTC+1:20170617T140000
DTSTAMP:20170621T060615
CREATED:20170519T115316
LAST-MODIFIED:20170519T115316
UID:33978-1497708000-1497708000@www.walfer.lu
SUMMARY:Projekt "Musical"
DESCRIPTION:
URL:https://www.walfer.lu/event/projekt-musical-2/
LOCATION:United States
GEO:37.09024;-95.712891
END:VEVENT
BEGIN:VEVENT
DTSTART;TZID=UTC+1:20170617T140000
DTEND;TZID=UTC+1:20170617T140000
DTSTAMP:20170621T060615
CREATED:20170519T115318
LAST-MODIFIED:20170519T115318
UID:33984-1497708000-1497708000@www.walfer.lu
SUMMARY:Workshop - Gesund im Säure-Basen-Gleichgewicht
DESCRIPTION:
URL:https://www.walfer.lu/event/workshop-gesund-im-saure-basen-gleichgewicht/
LOCATION:United States
GEO:37.09024;-95.712891
END:VEVENT
BEGIN:VEVENT
DTSTART;TZID=UTC+1:20170617T140000
DTEND;TZID=UTC+1:20170617T140000
DTSTAMP:20170621T060615
CREATED:20170519T115318
LAST-MODIFIED:20170519T115318
UID:33985-1497708000-1497708000@www.walfer.lu
SUMMARY:Bibliothèque Luxraines
DESCRIPTION:
URL:https://www.walfer.lu/event/bibliotheque-luxraines-2/
LOCATION:United States
GEO:37.09024;-95.712891
END:VEVENT
BEGIN:VEVENT
DTSTART;TZID=UTC+1:20170617T143000
DTEND;TZID=UTC+1:20170617T143000
DTSTAMP:20170621T060615
CREATED:20170519T115317
LAST-MODIFIED:20170519T115317
UID:33982-1497709800-1497709800@www.walfer.lu
SUMMARY:Bicherbus
DESCRIPTION:
URL:https://www.walfer.lu/event/bicherbus-14/
LOCATION:United States
GEO:37.09024;-95.712891
END:VEVENT
BEGIN:VEVENT
DTSTART;TZID=UTC+1:20170617T190000
DTEND;TZID=UTC+1:20170617T190000
DTSTAMP:20170621T060615
CREATED:20170519T115317
LAST-MODIFIED:20170519T115317
UID:33981-1497726000-1497726000@www.walfer.lu
SUMMARY:10ième anniversaire
DESCRIPTION:
URL:https://www.walfer.lu/event/10ieme-anniversaire/
LOCATION:United States
GEO:37.09024;-95.712891
END:VEVENT
BEGIN:VEVENT
DTSTART;TZID=UTC+1:20170619T143000
DTEND;TZID=UTC+1:20170619T143000
DTSTAMP:20170621T060615
CREATED:20170519T115319
LAST-MODIFIED:20170519T115319
UID:33989-1497882600-1497882600@www.walfer.lu
SUMMARY:Gymnastique de danse
DESCRIPTION:
URL:https://www.walfer.lu/event/gymnastique-de-danse-41/
LOCATION:United States
GEO:37.09024;-95.712891
END:VEVENT
BEGIN:VEVENT
DTSTART;TZID=UTC+1:20170619T170000
DTEND;TZID=UTC+1:20170619T170000
DTSTAMP:20170621T060615
CREATED:20170519T115318
LAST-MODIFIED:20170519T115318
UID:33987-1497891600-1497891600@www.walfer.lu
SUMMARY:Vortrag: Syrien wie es einmal war
DESCRIPTION:
URL:https://www.walfer.lu/event/vortrag-syrien-wie-es-einmal-war/
LOCATION:United States
GEO:37.09024;-95.712891
END:VEVENT
BEGIN:VEVENT
DTSTART;TZID=UTC+1:20170619T190000
DTEND;TZID=UTC+1:20170619T190000
DTSTAMP:20170621T060615
CREATED:20170519T115318
LAST-MODIFIED:20170519T115318
UID:33986-1497898800-1497898800@www.walfer.lu
SUMMARY:Réunion mensuelle
DESCRIPTION:
URL:https://www.walfer.lu/event/reunion-mensuelle-11/
LOCATION:United States
GEO:37.09024;-95.712891
END:VEVENT
BEGIN:VEVENT
DTSTART;TZID=UTC+1:20170619T193000
DTEND;TZID=UTC+1:20170619T193000
DTSTAMP:20170621T060615
CREATED:20170519T115319
LAST-MODIFIED:20170519T115319
UID:33988-1497900600-1497900600@www.walfer.lu
SUMMARY:Bodyshape
DESCRIPTION:
URL:https://www.walfer.lu/event/bodyshape-44/
LOCATION:United States
GEO:37.09024;-95.712891
END:VEVENT
BEGIN:VEVENT
DTSTART;TZID=UTC+1:20170620T133000
DTEND;TZID=UTC+1:20170620T133000
DTSTAMP:20170621T060615
CREATED:20170519T115319
LAST-MODIFIED:20170519T115319
UID:33990-1497965400-1497965400@www.walfer.lu
SUMMARY:Gymnastique à partir de 50 ans
DESCRIPTION:
URL:https://www.walfer.lu/event/gymnastique-a-partir-de-50-ans-46/
LOCATION:United States
GEO:37.09024;-95.712891
END:VEVENT
BEGIN:VEVENT
DTSTART;TZID=UTC+1:20170620T140000
DTEND;TZID=UTC+1:20170620T140000
DTSTAMP:20170621T060615
CREATED:20170519T115319
LAST-MODIFIED:20170519T115319
UID:33991-1497967200-1497967200@www.walfer.lu
SUMMARY:Porte Ouverte
DESCRIPTION:
URL:https://www.walfer.lu/event/porte-ouverte-44/
LOCATION:United States
GEO:37.09024;-95.712891
END:VEVENT
BEGIN:VEVENT
DTSTART;TZID=UTC+1:20170620T160000
DTEND;TZID=UTC+1:20170620T160000
DTSTAMP:20170621T060615
CREATED:20170519T115319
LAST-MODIFIED:20170519T115319
UID:33992-1497974400-1497974400@www.walfer.lu
SUMMARY:C'est moi Woodstock
DESCRIPTION:
URL:https://www.walfer.lu/event/cest-moi-woodstock-3/
LOCATION:United States
GEO:37.09024;-95.712891
END:VEVENT
BEGIN:VEVENT
DTSTART;TZID=UTC+1:20170620T193000
DTEND;TZID=UTC+1:20170620T193000
DTSTAMP:20170621T060615
CREATED:20170519T115320
LAST-MODIFIED:20170519T115320
UID:33993-1497987000-1497987000@www.walfer.lu
SUMMARY:Réunion d'information sur la catéchèse en paroisse
DESCRIPTION:
URL:https://www.walfer.lu/event/reunion-dinformation-sur-la-catechese-en-paroisse/
LOCATION:United States
GEO:37.09024;-95.712891
END:VEVENT
BEGIN:VEVENT
DTSTART;TZID=UTC+1:20170621T140000
DTEND;TZID=UTC+1:20170621T140000
DTSTAMP:20170621T060615
CREATED:20170519T115321
LAST-MODIFIED:20170519T115321
UID:33997-1498053600-1498053600@www.walfer.lu
SUMMARY:Bibliothèque Luxraines
DESCRIPTION:
URL:https://www.walfer.lu/event/bibliotheque-luxraines-3/
LOCATION:United States
GEO:37.09024;-95.712891
END:VEVENT
BEGIN:VEVENT
DTSTART;TZID=UTC+1:20170621T160000
DTEND;TZID=UTC+1:20170621T160000
DTSTAMP:20170621T060615
CREATED:20170519T115320
LAST-MODIFIED:20170519T115320
UID:33996-1498060800-1498060800@www.walfer.lu
SUMMARY:Kannerturnen
DESCRIPTION:
URL:https://www.walfer.lu/event/kannerturnen-26/
LOCATION:United States
GEO:37.09024;-95.712891
END:VEVENT
BEGIN:VEVENT
DTSTART;TZID=UTC+1:20170621T173000
DTEND;TZID=UTC+1:20170621T173000
DTSTAMP:20170621T060615
CREATED:20170519T115320
LAST-MODIFIED:20170519T115320
UID:33995-1498066200-1498066200@www.walfer.lu
SUMMARY:Girls Day Nordic Walking
DESCRIPTION:
URL:https://www.walfer.lu/event/girls-day-nordic-walking-3/
LOCATION:United States
GEO:37.09024;-95.712891
END:VEVENT
BEGIN:VEVENT
DTSTART;TZID=UTC+1:20170621T190000
DTEND;TZID=UTC+1:20170621T190000
DTSTAMP:20170621T060615
CREATED:20170519T115320
LAST-MODIFIED:20170519T115320
UID:33994-1498071600-1498071600@www.walfer.lu
SUMMARY:Atelier philatélique
DESCRIPTION:
URL:https://www.walfer.lu/event/atelier-philatelique-10/
LOCATION:United States
GEO:37.09024;-95.712891
END:VEVENT
BEGIN:VEVENT
DTSTART;TZID=UTC+1:20170622T183000
DTEND;TZID=UTC+1:20170622T183000
DTSTAMP:20170621T060615
CREATED:20170519T115321
LAST-MODIFIED:20170519T115321
UID:33998-1498156200-1498156200@www.walfer.lu
SUMMARY:Te Deum
DESCRIPTION:
URL:https://www.walfer.lu/event/te-deum-2/
LOCATION:United States
GEO:37.09024;-95.712891
END:VEVENT
BEGIN:VEVENT
DTSTART;TZID=UTC+1:20170622T190000
DTEND;TZID=UTC+1:20170622T230000
DTSTAMP:20170621T060615
CREATED:20170529T075652
LAST-MODIFIED:20170529T075652
UID:34574-1498158000-1498172400@www.walfer.lu
SUMMARY:Fête Nationale à Walferdange
DESCRIPTION:Cete année dans la commune\, nous fêtons la Fête nationale\npour la première fois sous une tente sur le parvis du château de\nWalferdange. Toute la population et notamment tous les employés\npublics et les associations locales sont invités à participer. La fête se\npoursuit autour des nombreux stands de grillade et de boissons. Pré-\nparez-vous à une agréable soirée conviviale\, avec l'orchestre blues\nCrossroads !\n\n19 heures rassemblement sur la place de la Mairie\n19.15 heures départ du cortège\n19.30 heures début de la cérémonie civile sur le parvis du château de Walferdange\n- troupe Prince Henri : « Wilhelmus »\n- allocution de Madame la Bourgmestre Joëlle Elvinger\n- remise des médailles\n- interventions musicales par les chorales Sainte-Cécile et Caecilia\n- Harmonie Grand-Ducale Marie-Adélaïde : « Heemecht »\n- verre de l'amitié\n20.30 à 23 heures encadrement musical de Crossroads (Let the guitars speak)
URL:https://www.walfer.lu/event/fete-nationale-a-walferdange/
LOCATION:United States
GEO:37.09024;-95.712891
CATEGORIES:Manifestations
ATTACH;FMTTYPE=image/jpeg:https://www.walfer.lu/wp-content/uploads/2017/05/20170517_edupole_schlass_034.jpg
END:VEVENT
BEGIN:VEVENT
DTSTART;TZID=UTC+1:20170624T100000
DTEND;TZID=UTC+1:20170624T180000
DTSTAMP:20170621T060615
CREATED:20170614T081930
LAST-MODIFIED:20170614T081930
UID:34913-1498298400-1498327200@www.walfer.lu
SUMMARY:Journée de la Police 2017
DESCRIPTION:
URL:https://www.walfer.lu/event/journee-de-la-police-2017-2/
LOCATION:United States
GEO:37.09024;-95.712891
CATEGORIES:Manifestations
END:VEVENT
BEGIN:VEVENT
DTSTART;TZID=UTC+1:20170624T120000
DTEND;TZID=UTC+1:20170624T120000
DTSTAMP:20170621T060615
CREATED:20170519T115321
LAST-MODIFIED:20170519T115321
UID:34000-1498305600-1498305600@www.walfer.lu
SUMMARY:Gaardeparty
DESCRIPTION:
URL:https://www.walfer.lu/event/gaardeparty/
LOCATION:United States
GEO:37.09024;-95.712891
END:VEVENT
BEGIN:VEVENT
DTSTART;TZID=UTC+1:20170624T200000
DTEND;TZID=UTC+1:20170624T200000
DTSTAMP:20170621T060615
CREATED:20170519T115321
LAST-MODIFIED:20170519T115321
UID:34001-1498334400-1498334400@www.walfer.lu
SUMMARY:Aurélia Pie "Striknine dans Burn out"
DESCRIPTION:
URL:https://www.walfer.lu/event/aurelia-pie-striknine-dans-burn-out/
LOCATION:United States
GEO:37.09024;-95.712891
END:VEVENT
BEGIN:VEVENT
DTSTART;TZID=UTC+1:20170625T113000
DTEND;TZID=UTC+1:20170625T113000
DTSTAMP:20170621T060615
CREATED:20170519T115322
LAST-MODIFIED:20170519T115322
UID:34003-1498390200-1498390200@www.walfer.lu
SUMMARY:Gaardeparty
DESCRIPTION:
URL:https://www.walfer.lu/event/gaardeparty-2/
LOCATION:United States
GEO:37.09024;-95.712891
END:VEVENT
BEGIN:VEVENT
DTSTART;TZID=UTC+1:20170626T143000
DTEND;TZID=UTC+1:20170626T143000
DTSTAMP:20170621T060615
CREATED:20170519T115322
LAST-MODIFIED:20170519T115322
UID:34005-1498487400-1498487400@www.walfer.lu
SUMMARY:Gymnastique de danse
DESCRIPTION:
URL:https://www.walfer.lu/event/gymnastique-de-danse-42/
LOCATION:United States
GEO:37.09024;-95.712891
END:VEVENT
BEGIN:VEVENT
DTSTART;TZID=UTC+1:20170626T180000
DTEND;TZID=UTC+1:20170626T180000
DTSTAMP:20170621T060615
CREATED:20170519T115323
LAST-MODIFIED:20170519T115323
UID:34006-1498500000-1498500000@www.walfer.lu
SUMMARY:Konferenz: Kompetenzen im reifen Alter erkennen und Chancen konsequent wahrnehmen
DESCRIPTION:
URL:https://www.walfer.lu/event/konferenz-kompetenzen-im-reifen-alter-erkennen-und-chancen-konsequent-wahrnehmen/
LOCATION:United States
GEO:37.09024;-95.712891
END:VEVENT
BEGIN:VEVENT
DTSTART;TZID=UTC+1:20170626T183000
DTEND;TZID=UTC+1:20170626T183000
DTSTAMP:20170621T060615
CREATED:20170519T115322
LAST-MODIFIED:20170519T115322
UID:34004-1498501800-1498501800@www.walfer.lu
SUMMARY:Bodyshape
DESCRIPTION:
URL:https://www.walfer.lu/event/bodyshape-45/
LOCATION:United States
GEO:37.09024;-95.712891
END:VEVENT
BEGIN:VEVENT
DTSTART;TZID=UTC+1:20170627T133000
DTEND;TZID=UTC+1:20170627T133000
DTSTAMP:20170621T060615
CREATED:20170519T115323
LAST-MODIFIED:20170519T115323
UID:34009-1498570200-1498570200@www.walfer.lu
SUMMARY:Gymnastique à partir de 50 ans
DESCRIPTION:
URL:https://www.walfer.lu/event/gymnastique-a-partir-de-50-ans-47/
LOCATION:United States
GEO:37.09024;-95.712891
END:VEVENT
BEGIN:VEVENT
DTSTART;TZID=UTC+1:20170627T140000
DTEND;TZID=UTC+1:20170627T140000
DTSTAMP:20170621T060615
CREATED:20170519T115323
LAST-MODIFIED:20170519T115323
UID:34010-1498572000-1498572000@www.walfer.lu
SUMMARY:Porte Ouverte
DESCRIPTION:
URL:https://www.walfer.lu/event/porte-ouverte-45/
LOCATION:United States
GEO:37.09024;-95.712891
END:VEVENT
BEGIN:VEVENT
DTSTART;TZID=UTC+1:20170627T160000
DTEND;TZID=UTC+1:20170627T160000
DTSTAMP:20170621T060615
CREATED:20170519T115323
LAST-MODIFIED:20170519T115323
UID:34007-1498579200-1498579200@www.walfer.lu
SUMMARY:C'est moi Woodstock
DESCRIPTION:
URL:https://www.walfer.lu/event/cest-moi-woodstock-4/
LOCATION:United States
GEO:37.09024;-95.712891
END:VEVENT
BEGIN:VEVENT
DTSTART;TZID=UTC+1:20170627T200000
DTEND;TZID=UTC+1:20170627T200000
DTSTAMP:20170621T060615
CREATED:20170519T115323
LAST-MODIFIED:20170519T115323
UID:34008-1498593600-1498593600@www.walfer.lu
SUMMARY:Danzowend
DESCRIPTION:
URL:https://www.walfer.lu/event/danzowend-15/
LOCATION:United States
GEO:37.09024;-95.712891
END:VEVENT
BEGIN:VEVENT
DTSTART;TZID=UTC+1:20170628T160000
DTEND;TZID=UTC+1:20170628T160000
DTSTAMP:20170621T060615
CREATED:20170519T115324
LAST-MODIFIED:20170519T115324
UID:34011-1498665600-1498665600@www.walfer.lu
SUMMARY:Kannerturnen
DESCRIPTION:
URL:https://www.walfer.lu/event/kannerturnen-27/
LOCATION:United States
GEO:37.09024;-95.712891
END:VEVENT
BEGIN:VEVENT
DTSTART;TZID=UTC+1:20170629T110000
DTEND;TZID=UTC+1:20170629T110000
DTSTAMP:20170621T060615
CREATED:20170519T115324
LAST-MODIFIED:20170519T115324
UID:34012-1498734000-1498734000@www.walfer.lu
SUMMARY:Summerfest am Becheler
DESCRIPTION:
URL:https://www.walfer.lu/event/summerfest-am-becheler-2/
LOCATION:United States
GEO:37.09024;-95.712891
END:VEVENT
BEGIN:VEVENT
DTSTART;TZID=UTC+1:20170629T153000
DTEND;TZID=UTC+1:20170629T153000
DTSTAMP:20170621T060615
CREATED:20170519T115324
LAST-MODIFIED:20170519T115324
UID:34013-1498750200-1498750200@www.walfer.lu
SUMMARY:Girls Talk
DESCRIPTION:
URL:https://www.walfer.lu/event/girls-talk-8/
LOCATION:United States
GEO:37.09024;-95.712891
END:VEVENT
BEGIN:VEVENT
DTSTART;TZID=UTC+1:20170630T173000
DTEND;TZID=UTC+1:20170630T173000
DTSTAMP:20170621T060615
CREATED:20170519T115325
LAST-MODIFIED:20170519T115325
UID:34015-1498843800-1498843800@www.walfer.lu
SUMMARY:Visite Jardin
DESCRIPTION:
URL:https://www.walfer.lu/event/visite-jardin/
LOCATION:United States
GEO:37.09024;-95.712891
END:VEVENT
BEGIN:VEVENT
DTSTART;TZID=UTC+1:20170630T190000
DTEND;TZID=UTC+1:20170630T190000
DTSTAMP:20170621T060615
CREATED:20170519T115324
LAST-MODIFIED:20170519T115324
UID:34014-1498849200-1498849200@www.walfer.lu
SUMMARY:Vernissage: UNIKAT création de bijoux
DESCRIPTION:
URL:https://www.walfer.lu/event/vernissage-unikat-creation-de-bijoux/
LOCATION:United States
GEO:37.09024;-95.712891
END:VEVENT
END:VCALENDAR